BEGIN:VCALENDAR
VERSION:2.0
PRODID:-//DIOCESI DI ROMA - ECPv4.6.14.1//NONSGML v1.0//EN
CALSCALE:GREGORIAN
METHOD:PUBLISH
X-WR-CALNAME:DIOCESI DI ROMA
X-ORIGINAL-URL:https://www.diocesidiroma.it
X-WR-CALDESC:Eventi per DIOCESI DI ROMA
BEGIN:VEVENT
DTSTART;TZID=Europe/Rome:20260124T080000
DTEND;TZID=Europe/Rome:20260124T170000
DTSTAMP:20260423T201506
CREATED:20250911T092231Z
LAST-MODIFIED:20250911T092231Z
UID:37131-1769241600-1769274000@www.diocesidiroma.it
SUMMARY:Festa San Francesco di Sales - celebrazione diocesana per gli operatori della comunicazione
DESCRIPTION:Festa San Francesco di Sales – celebrazione diocesana per gli operatori della comunicazione \n
URL:https://www.diocesidiroma.it/event/festa-san-francesco-di-sales-celebrazione-diocesana-per-gli-operatori-della-comunicazione/
CATEGORIES:In Diocesi
END:VEVENT
END:VCALENDAR