BEGIN:VCALENDAR
VERSION:2.0
PRODID:-//DIOCESI DI ROMA - ECPv4.6.14.1//NONSGML v1.0//EN
CALSCALE:GREGORIAN
METHOD:PUBLISH
X-WR-CALNAME:DIOCESI DI ROMA
X-ORIGINAL-URL:https://www.diocesidiroma.it
X-WR-CALDESC:Eventi per DIOCESI DI ROMA
BEGIN:VEVENT
DTSTART;TZID=Europe/Rome:20181117T000000
DTEND;TZID=Europe/Rome:20181118T000000
DTSTAMP:20260423T152751
CREATED:20180913T075338Z
LAST-MODIFIED:20180913T075416Z
UID:4513-1542412800-1542499200@www.diocesidiroma.it
SUMMARY:Fine settimana di formazione all'affettività
DESCRIPTION:Fine settimana di formazione all’affettività a cura del Servizio per la pastorale giovanile. \n
URL:https://www.diocesidiroma.it/event/fine-settimana-di-formazione-allaffettivita/
CATEGORIES:Iniziative degli Uffici
END:VEVENT
END:VCALENDAR