BEGIN:VCALENDAR
VERSION:2.0
PRODID:-//DIOCESI DI ROMA - ECPv4.6.14.1//NONSGML v1.0//EN
CALSCALE:GREGORIAN
METHOD:PUBLISH
X-WR-CALNAME:DIOCESI DI ROMA
X-ORIGINAL-URL:https://www.diocesidiroma.it
X-WR-CALDESC:Eventi per DIOCESI DI ROMA
BEGIN:VEVENT
DTSTART;TZID=Europe/Rome:20180711T130000
DTEND;TZID=Europe/Rome:20180711T130000
DTSTAMP:20260425T224137
CREATED:20180706T091711Z
LAST-MODIFIED:20180706T092008Z
UID:3894-1531314000-1531314000@www.diocesidiroma.it
SUMMARY:Ore 13\,00 al Quirinale pranzo per i nuovi Cardinali...
DESCRIPTION:Ore 13\,00 al Quirinale partecipa al pranzo per i nuovi Cardinali. \n
URL:https://www.diocesidiroma.it/event/fino-a-sabato-14-luglio-settimana-di-fraternita-in-val-di-fassa/
CATEGORIES:NON USARE --- Agenda del Vicario
END:VEVENT
END:VCALENDAR