BEGIN:VCALENDAR
VERSION:2.0
PRODID:-//DIOCESI DI ROMA - ECPv4.6.14.1//NONSGML v1.0//EN
CALSCALE:GREGORIAN
METHOD:PUBLISH
X-WR-CALNAME:DIOCESI DI ROMA
X-ORIGINAL-URL:https://www.diocesidiroma.it
X-WR-CALDESC:Eventi per DIOCESI DI ROMA
BEGIN:VEVENT
DTSTART;TZID=Europe/Rome:20230415T100000
DTEND;TZID=Europe/Rome:20230415T130000
DTSTAMP:20260422T073311
CREATED:20230330T100538Z
LAST-MODIFIED:20230330T100538Z
UID:25868-1681552800-1681563600@www.diocesidiroma.it
SUMMARY:Focus "Giustizia sociale per il diritto al «buon vivere»" - Centrale Montemartini (Via Ostiense\, 106) (Uff. Past. Sociale)
DESCRIPTION:Focus “Giustizia sociale per il diritto al «buon vivere»” – Centrale Montemartini (Via Ostiense\, 106) (Uff. Past. Sociale) \n
URL:https://www.diocesidiroma.it/event/focus-giustizia-sociale-per-il-diritto-al-buon-vivere-centrale-montemartini-via-ostiense-106-uff-past-sociale/
CATEGORIES:In Diocesi,Iniziative degli Uffici
END:VEVENT
END:VCALENDAR