BEGIN:VCALENDAR
VERSION:2.0
PRODID:-//DIOCESI DI ROMA - ECPv4.6.14.1//NONSGML v1.0//EN
CALSCALE:GREGORIAN
METHOD:PUBLISH
X-WR-CALNAME:DIOCESI DI ROMA
X-ORIGINAL-URL:https://www.diocesidiroma.it
X-WR-CALDESC:Eventi per DIOCESI DI ROMA
BEGIN:VEVENT
DTSTART;TZID=Europe/Rome:20221203T100000
DTEND;TZID=Europe/Rome:20221203T130000
DTSTAMP:20260421T222448
CREATED:20221128T095536Z
LAST-MODIFIED:20221128T095536Z
UID:24280-1670061600-1670072400@www.diocesidiroma.it
SUMMARY:Focus "La sfida della biodiversità" - Centrale Montemartini (via Ostiense\, 106) (Uff. Past. Sociale)
DESCRIPTION:Focus “La sfida della biodiversità” – Centrale Montemartini (via Ostiense\, 106) (Uff. Past. Sociale) \n
URL:https://www.diocesidiroma.it/event/focus-la-sfida-della-biodiversita-centrale-montemartini-via-ostiense-106-uff-past-sociale/
CATEGORIES:Iniziative degli Uffici
END:VEVENT
END:VCALENDAR