BEGIN:VCALENDAR
VERSION:2.0
PRODID:-//DIOCESI DI ROMA - ECPv4.6.14.1//NONSGML v1.0//EN
CALSCALE:GREGORIAN
METHOD:PUBLISH
X-WR-CALNAME:DIOCESI DI ROMA
X-ORIGINAL-URL:https://www.diocesidiroma.it
X-WR-CALDESC:Eventi per DIOCESI DI ROMA
BEGIN:VEVENT
DTSTART;TZID=Europe/Rome:20221015T100000
DTEND;TZID=Europe/Rome:20221015T130000
DTSTAMP:20260421T135609
CREATED:20221013T105857Z
LAST-MODIFIED:20221013T105959Z
UID:23325-1665828000-1665838800@www.diocesidiroma.it
SUMMARY:Focus "Parliamo di lavoro" - Centrale Montemartini (Via Ostiense\, 106) (Uff. Past. Sociale)
DESCRIPTION:Focus “Parliamo di lavoro” – Centrale Montemartini (Via Ostiense\, 106) (Uff. Past. Sociale) \n
URL:https://www.diocesidiroma.it/event/focus-parliamo-di-lavoro-centrale-montemartini-via-ostiense-106-uff-past-sociale/
CATEGORIES:In Diocesi,Iniziative degli Uffici
END:VEVENT
END:VCALENDAR