BEGIN:VCALENDAR
VERSION:2.0
PRODID:-//DIOCESI DI ROMA - ECPv4.6.14.1//NONSGML v1.0//EN
CALSCALE:GREGORIAN
METHOD:PUBLISH
X-WR-CALNAME:DIOCESI DI ROMA
X-ORIGINAL-URL:https://www.diocesidiroma.it
X-WR-CALDESC:Eventi per DIOCESI DI ROMA
BEGIN:VEVENT
DTSTART;TZID=Europe/Rome:20230420T000000
DTEND;TZID=Europe/Rome:20230420T000000
DTSTAMP:20260420T214326
CREATED:20230330T101101Z
LAST-MODIFIED:20230330T101118Z
UID:25882-1681948800-1681948800@www.diocesidiroma.it
SUMMARY:Follow-up Convegno regionale "Giovani generazioni\, fragilità\, sogni e attese nel tempo della guerra e della pandemia" - sessione romana (Uff. Ecumenismo)
DESCRIPTION:Follow-up Convegno regionale “Giovani generazioni\, fragilità\, sogni e attese nel tempo della guerra e della pandemia” – sessione romana (Uff. Ecumenismo) \n
URL:https://www.diocesidiroma.it/event/follow-up-convegno-regionale-giovani-generazioni-fragilita-sogni-e-attese-nel-tempo-della-guerra-e-della-pandemia-sessione-romana-uff-ecumenismo/
CATEGORIES:In Diocesi,Iniziative degli Uffici
END:VEVENT
END:VCALENDAR