BEGIN:VCALENDAR
VERSION:2.0
PRODID:-//DIOCESI DI ROMA - ECPv4.6.14.1//NONSGML v1.0//EN
CALSCALE:GREGORIAN
METHOD:PUBLISH
X-WR-CALNAME:DIOCESI DI ROMA
X-ORIGINAL-URL:https://www.diocesidiroma.it
X-WR-CALDESC:Eventi per DIOCESI DI ROMA
BEGIN:VEVENT
DTSTART;TZID=Europe/Rome:20260316T193000
DTEND;TZID=Europe/Rome:20260316T213000
DTSTAMP:20260421T182051
CREATED:20251001T090703Z
LAST-MODIFIED:20251001T090703Z
UID:37524-1773689400-1773696600@www.diocesidiroma.it
SUMMARY:"Fondamenti. Orientarsi fra gli opposti" - 3° Incontro Diritti o doveri?
DESCRIPTION:“Fondamenti. Orientarsi fra gli opposti” – 3° Incontro Diritti o doveri? San Lorenzo Fuori le Mura (Uff. Cultura) \n
URL:https://www.diocesidiroma.it/event/fondamenti-orientarsi-fra-gli-opposti-3-incontro-diritti-o-doveri/
CATEGORIES:In Diocesi,Iniziative degli Uffici
END:VEVENT
END:VCALENDAR