BEGIN:VCALENDAR
VERSION:2.0
PRODID:-//DIOCESI DI ROMA - ECPv4.6.14.1//NONSGML v1.0//EN
CALSCALE:GREGORIAN
METHOD:PUBLISH
X-WR-CALNAME:DIOCESI DI ROMA
X-ORIGINAL-URL:https://www.diocesidiroma.it
X-WR-CALDESC:Eventi per DIOCESI DI ROMA
BEGIN:VEVENT
DTSTART;TZID=Europe/Rome:20251117T193000
DTEND;TZID=Europe/Rome:20251117T213000
DTSTAMP:20260421T115621
CREATED:20250910T121257Z
LAST-MODIFIED:20250910T121257Z
UID:36993-1763407800-1763415000@www.diocesidiroma.it
SUMMARY:"Fondamenti. Orientarsi fra gli opposti"
DESCRIPTION:“Fondamenti. Orientarsi fra gli opposti”-1° Incontro. Conservatori o progressisti? Chiesa dei Santi Nereo e Achilleo. (Uff. Cultura) \n
URL:https://www.diocesidiroma.it/event/fondamenti-orientarsi-fra-gli-opposti/
CATEGORIES:Iniziative degli Uffici
END:VEVENT
END:VCALENDAR