BEGIN:VCALENDAR
VERSION:2.0
PRODID:-//DIOCESI DI ROMA - ECPv4.6.14.1//NONSGML v1.0//EN
CALSCALE:GREGORIAN
METHOD:PUBLISH
X-WR-CALNAME:DIOCESI DI ROMA
X-ORIGINAL-URL:https://www.diocesidiroma.it
X-WR-CALDESC:Eventi per DIOCESI DI ROMA
BEGIN:VEVENT
DTSTART;TZID=Europe/Rome:20201125T100000
DTEND;TZID=Europe/Rome:20201125T120000
DTSTAMP:20260425T192104
CREATED:20200923T161318Z
LAST-MODIFIED:20200923T161318Z
UID:11830-1606298400-1606305600@www.diocesidiroma.it
SUMMARY:Formazione per i cappellani
DESCRIPTION:Formazione per i cappellani\, a cura del Centro per la pastorale sanitaria. \n
URL:https://www.diocesidiroma.it/event/formazione-per-i-cappellani-2/
CATEGORIES:Iniziative degli Uffici
END:VEVENT
END:VCALENDAR