BEGIN:VCALENDAR
VERSION:2.0
PRODID:-//DIOCESI DI ROMA - ECPv4.6.14.1//NONSGML v1.0//EN
CALSCALE:GREGORIAN
METHOD:PUBLISH
X-WR-CALNAME:DIOCESI DI ROMA
X-ORIGINAL-URL:https://www.diocesidiroma.it
X-WR-CALDESC:Eventi per DIOCESI DI ROMA
BEGIN:VEVENT
DTSTART;TZID=Europe/Rome:20260519T193000
DTEND;TZID=Europe/Rome:20260519T193000
DTSTAMP:20260420T235759
CREATED:20251021T104842Z
LAST-MODIFIED:20260416T112758Z
UID:38098-1779219000-1779219000@www.diocesidiroma.it
SUMMARY:Giardini d'Inchiostro: incontro con Samuele Cornalba
DESCRIPTION:Giardini d’Inchiostro: incontro con Samuele Cornalba – Cappella della Sapienza (Uff. per la Pastorale Universitaria) \n
URL:https://www.diocesidiroma.it/event/giardini-dinchiostro-incontro-con-samuele-cornalba/
CATEGORIES:In Diocesi,Iniziative degli Uffici
END:VEVENT
END:VCALENDAR