BEGIN:VCALENDAR
VERSION:2.0
PRODID:-//DIOCESI DI ROMA - ECPv4.6.14.1//NONSGML v1.0//EN
CALSCALE:GREGORIAN
METHOD:PUBLISH
X-WR-CALNAME:DIOCESI DI ROMA
X-ORIGINAL-URL:https://www.diocesidiroma.it
X-WR-CALDESC:Eventi per DIOCESI DI ROMA
BEGIN:VEVENT
DTSTART;VALUE=DATE:20260324
DTEND;VALUE=DATE:20260325
DTSTAMP:20260420T223053
CREATED:20251001T092203Z
LAST-MODIFIED:20251001T092203Z
UID:37541-1774310400-1774396799@www.diocesidiroma.it
SUMMARY:Giornata dei Missionari Martiri
DESCRIPTION:Giornata dei Missionari Martiri (Uff. per la cooperazione missionaria tra le chiese) \n
URL:https://www.diocesidiroma.it/event/giornata-dei-missionari-martiri/
CATEGORIES:Giornate di sensibilizzazione
END:VEVENT
END:VCALENDAR