BEGIN:VCALENDAR
VERSION:2.0
PRODID:-//DIOCESI DI ROMA - ECPv4.6.14.1//NONSGML v1.0//EN
CALSCALE:GREGORIAN
METHOD:PUBLISH
X-WR-CALNAME:DIOCESI DI ROMA
X-ORIGINAL-URL:https://www.diocesidiroma.it
X-WR-CALDESC:Eventi per DIOCESI DI ROMA
BEGIN:VEVENT
DTSTART;VALUE=DATE:20230422
DTEND;VALUE=DATE:20230423
DTSTAMP:20260421T011134
CREATED:20230330T101135Z
LAST-MODIFIED:20230330T101135Z
UID:25884-1682121600-1682207999@www.diocesidiroma.it
SUMMARY:Giornata del gioco e dello sport - Villa Borghese (Uff. Tempo libero\, turismo e sport)
DESCRIPTION:Giornata del gioco e dello sport – Villa Borghese (Uff. Tempo libero\, turismo e sport) \n
URL:https://www.diocesidiroma.it/event/giornata-del-gioco-e-dello-sport-villa-borghese-uff-tempo-libero-turismo-e-sport/
CATEGORIES:In Diocesi,Iniziative degli Uffici
END:VEVENT
END:VCALENDAR