BEGIN:VCALENDAR
VERSION:2.0
PRODID:-//DIOCESI DI ROMA - ECPv4.6.14.1//NONSGML v1.0//EN
CALSCALE:GREGORIAN
METHOD:PUBLISH
X-WR-CALNAME:DIOCESI DI ROMA
X-ORIGINAL-URL:https://www.diocesidiroma.it
X-WR-CALDESC:Eventi per DIOCESI DI ROMA
BEGIN:VEVENT
DTSTART;VALUE=DATE:20260127
DTEND;VALUE=DATE:20260128
DTSTAMP:20260421T071646
CREATED:20250911T093314Z
LAST-MODIFIED:20250911T093314Z
UID:37147-1769472000-1769558399@www.diocesidiroma.it
SUMMARY:Giornata della Memoria: deposizione di un cesto di fiori al Portico d'Ottavia (Uff. per l'ecumenismo\, il dialogo interreligioso e i nuovi culti)
DESCRIPTION:Giornata della Memoria: deposizione di un cesto di fiori al Portico d’Ottavia (Uff. per l’ecumenismo\, il dialogo interreligioso e i nuovi culti) \n
URL:https://www.diocesidiroma.it/event/giornata-della-memoria-deposizione-di-un-cesto-di-fiori-al-portico-dottavia-uff-per-lecumenismo-il-dialogo-interreligioso-e-i-nuovi-culti/
CATEGORIES:Giornate di sensibilizzazione
END:VEVENT
END:VCALENDAR