BEGIN:VCALENDAR
VERSION:2.0
PRODID:-//DIOCESI DI ROMA - ECPv4.6.14.1//NONSGML v1.0//EN
CALSCALE:GREGORIAN
METHOD:PUBLISH
X-WR-CALNAME:DIOCESI DI ROMA
X-ORIGINAL-URL:https://www.diocesidiroma.it
X-WR-CALDESC:Eventi per DIOCESI DI ROMA
BEGIN:VEVENT
DTSTART;VALUE=DATE:20200619
DTEND;VALUE=DATE:20200620
DTSTAMP:20260423T135605
CREATED:20200219T091721Z
LAST-MODIFIED:20200219T091721Z
UID:10133-1592524800-1592611199@www.diocesidiroma.it
SUMMARY:Giornata della santificazione sacerdotale
DESCRIPTION:Giornata della santificazione sacerdotale. \n
URL:https://www.diocesidiroma.it/event/giornata-della-santificazione-sacerdotale/
CATEGORIES:Giornate di sensibilizzazione
END:VEVENT
END:VCALENDAR