BEGIN:VCALENDAR
VERSION:2.0
PRODID:-//DIOCESI DI ROMA - ECPv4.6.14.1//NONSGML v1.0//EN
CALSCALE:GREGORIAN
METHOD:PUBLISH
X-WR-CALNAME:DIOCESI DI ROMA
X-ORIGINAL-URL:https://www.diocesidiroma.it
X-WR-CALDESC:Eventi per DIOCESI DI ROMA
BEGIN:VEVENT
DTSTART;VALUE=DATE:20191125
DTEND;VALUE=DATE:20191126
DTSTAMP:20260422T010603
CREATED:20190917T124922Z
LAST-MODIFIED:20190917T124922Z
UID:8567-1574640000-1574726399@www.diocesidiroma.it
SUMMARY:Giornata delle claustrali
DESCRIPTION:Giornata delle claustrali \n
URL:https://www.diocesidiroma.it/event/giornata-delle-claustrali-3/
CATEGORIES:Giornate di sensibilizzazione
END:VEVENT
END:VCALENDAR