BEGIN:VCALENDAR
VERSION:2.0
PRODID:-//DIOCESI DI ROMA - ECPv4.6.14.1//NONSGML v1.0//EN
CALSCALE:GREGORIAN
METHOD:PUBLISH
X-WR-CALNAME:DIOCESI DI ROMA
X-ORIGINAL-URL:https://www.diocesidiroma.it
X-WR-CALDESC:Eventi per DIOCESI DI ROMA
BEGIN:VEVENT
DTSTART;VALUE=DATE:20180106
DTEND;VALUE=DATE:20180107
DTSTAMP:20260425T213452
CREATED:20171228T121247Z
LAST-MODIFIED:20171228T121247Z
UID:497-1515196800-1515283199@www.diocesidiroma.it
SUMMARY:Giornata dell’infanzia missionaria
DESCRIPTION:
URL:https://www.diocesidiroma.it/event/giornata-dellinfanzia-missionaria/
CATEGORIES:Giornate di sensibilizzazione
END:VEVENT
END:VCALENDAR