BEGIN:VCALENDAR
VERSION:2.0
PRODID:-//DIOCESI DI ROMA - ECPv4.6.14.1//NONSGML v1.0//EN
CALSCALE:GREGORIAN
METHOD:PUBLISH
X-WR-CALNAME:DIOCESI DI ROMA
X-ORIGINAL-URL:https://www.diocesidiroma.it
X-WR-CALDESC:Eventi per DIOCESI DI ROMA
BEGIN:VEVENT
DTSTART;VALUE=DATE:20231112
DTEND;VALUE=DATE:20231113
DTSTAMP:20260421T010635
CREATED:20231006T085019Z
LAST-MODIFIED:20231006T085019Z
UID:27531-1699747200-1699833599@www.diocesidiroma.it
SUMMARY:Giornata di Avvenire e dei Media Diocesani
DESCRIPTION:Giornata di Avvenire e dei Media Diocesani \n
URL:https://www.diocesidiroma.it/event/giornata-di-avvenire-e-dei-media-diocesani-4/
CATEGORIES:Giornate di sensibilizzazione
END:VEVENT
END:VCALENDAR