BEGIN:VCALENDAR
VERSION:2.0
PRODID:-//DIOCESI DI ROMA - ECPv4.6.14.1//NONSGML v1.0//EN
CALSCALE:GREGORIAN
METHOD:PUBLISH
X-WR-CALNAME:DIOCESI DI ROMA
X-ORIGINAL-URL:https://www.diocesidiroma.it
X-WR-CALDESC:Eventi per DIOCESI DI ROMA
BEGIN:VEVENT
DTSTART;VALUE=DATE:20201108
DTEND;VALUE=DATE:20201109
DTSTAMP:20260425T201513
CREATED:20200923T152759Z
LAST-MODIFIED:20200923T152759Z
UID:11766-1604793600-1604879999@www.diocesidiroma.it
SUMMARY:Giornata di Avvenire e dei media diocesani
DESCRIPTION:Giornata di Avvenire e dei media diocesani \n
URL:https://www.diocesidiroma.it/event/giornata-di-avvenire-e-dei-media-diocesani/
CATEGORIES:Giornate di sensibilizzazione
END:VEVENT
END:VCALENDAR