BEGIN:VCALENDAR
VERSION:2.0
PRODID:-//DIOCESI DI ROMA - ECPv4.6.14.1//NONSGML v1.0//EN
CALSCALE:GREGORIAN
METHOD:PUBLISH
X-WR-CALNAME:DIOCESI DI ROMA
X-ORIGINAL-URL:https://www.diocesidiroma.it
X-WR-CALDESC:Eventi per DIOCESI DI ROMA
BEGIN:VEVENT
DTSTART;TZID=Europe/Rome:20260523T093000
DTEND;TZID=Europe/Rome:20260523T120000
DTSTAMP:20260421T045603
CREATED:20251030T111528Z
LAST-MODIFIED:20251030T111528Z
UID:38263-1779528600-1779537600@www.diocesidiroma.it
SUMMARY:Giornata di formazione per animatori culturali di parrocchia
DESCRIPTION:Giornata di formazione per animatori culturali di parrocchia (Uff. Cultura) \n
URL:https://www.diocesidiroma.it/event/giornata-di-formazione-per-animatori-culturali-di-parrocchia/
CATEGORIES:In Diocesi,Iniziative degli Uffici
END:VEVENT
END:VCALENDAR