BEGIN:VCALENDAR
VERSION:2.0
PRODID:-//DIOCESI DI ROMA - ECPv4.6.14.1//NONSGML v1.0//EN
CALSCALE:GREGORIAN
METHOD:PUBLISH
X-WR-CALNAME:DIOCESI DI ROMA
X-ORIGINAL-URL:https://www.diocesidiroma.it
X-WR-CALDESC:Eventi per DIOCESI DI ROMA
BEGIN:VEVENT
DTSTART;VALUE=DATE:20251126
DTEND;VALUE=DATE:20251127
DTSTAMP:20260421T071753
CREATED:20251119T150007Z
LAST-MODIFIED:20251119T150007Z
UID:38685-1764115200-1764201599@www.diocesidiroma.it
SUMMARY:Giornata di Ritiro Spirituale
DESCRIPTION:Giornata di Ritiro Spirituale \n
URL:https://www.diocesidiroma.it/event/giornata-di-ritiro-spirituale/
CATEGORIES:Vicario Generale
END:VEVENT
END:VCALENDAR