BEGIN:VCALENDAR
VERSION:2.0
PRODID:-//DIOCESI DI ROMA - ECPv4.6.14.1//NONSGML v1.0//EN
CALSCALE:GREGORIAN
METHOD:PUBLISH
X-WR-CALNAME:DIOCESI DI ROMA
X-ORIGINAL-URL:https://www.diocesidiroma.it
X-WR-CALDESC:Eventi per DIOCESI DI ROMA
BEGIN:VEVENT
DTSTART;TZID=Europe/Rome:20191019T093000
DTEND;TZID=Europe/Rome:20191019T163000
DTSTAMP:20260421T074013
CREATED:20190917T061851Z
LAST-MODIFIED:20190917T061851Z
UID:8391-1571477400-1571502600@www.diocesidiroma.it
SUMMARY:Giornata di sensibilizzazione missionaria per i bambini "I diritti dei bambini" al Don Orione
DESCRIPTION:Giornata di sensibilizzazione missionaria per i bambini “I diritti dei bambini” all’Istituto Don Orione\, a cura del Centro missionario diocesano. \n
URL:https://www.diocesidiroma.it/event/giornata-di-sensibilizzazione-missionaria-per-i-bambini-i-diritti-dei-bambini-al-don-orione/
CATEGORIES:Iniziative degli Uffici
END:VEVENT
END:VCALENDAR