BEGIN:VCALENDAR
VERSION:2.0
PRODID:-//DIOCESI DI ROMA - ECPv4.6.14.1//NONSGML v1.0//EN
CALSCALE:GREGORIAN
METHOD:PUBLISH
X-WR-CALNAME:DIOCESI DI ROMA
X-ORIGINAL-URL:https://www.diocesidiroma.it
X-WR-CALDESC:Eventi per DIOCESI DI ROMA
BEGIN:VEVENT
DTSTART;VALUE=DATE:20250915
DTEND;VALUE=DATE:20250916
DTSTAMP:20260422T175318
CREATED:20250910T102431Z
LAST-MODIFIED:20250910T102431Z
UID:36827-1757894400-1757980799@www.diocesidiroma.it
SUMMARY:Giornata di sensibilizzazione per il Sostenatamento del Clero
DESCRIPTION:Giornata di sensibilizzazione per il Sostenatamento del Clero \n
URL:https://www.diocesidiroma.it/event/giornata-di-sensibilizzazione-per-il-sostenatamento-del-clero/
CATEGORIES:Giornate di sensibilizzazione
END:VEVENT
END:VCALENDAR