BEGIN:VCALENDAR
VERSION:2.0
PRODID:-//DIOCESI DI ROMA - ECPv4.6.14.1//NONSGML v1.0//EN
CALSCALE:GREGORIAN
METHOD:PUBLISH
X-WR-CALNAME:DIOCESI DI ROMA
X-ORIGINAL-URL:https://www.diocesidiroma.it
X-WR-CALDESC:Eventi per DIOCESI DI ROMA
BEGIN:VEVENT
DTSTART;TZID=Europe/Rome:20181125T000000
DTEND;TZID=Europe/Rome:20181125T000000
DTSTAMP:20260422T135047
CREATED:20180913T082609Z
LAST-MODIFIED:20180913T082609Z
UID:4539-1543104000-1543104000@www.diocesidiroma.it
SUMMARY:Giornata di sensibilizzazione per il sostentamento del clero
DESCRIPTION:Giornata di sensibilizzazione per il sostentamento del clero. \n
URL:https://www.diocesidiroma.it/event/giornata-di-sensibilizzazione-per-il-sostentamento-del-clero-2/
CATEGORIES:Giornate di sensibilizzazione
END:VEVENT
END:VCALENDAR