BEGIN:VCALENDAR
VERSION:2.0
PRODID:-//DIOCESI DI ROMA - ECPv4.6.14.1//NONSGML v1.0//EN
CALSCALE:GREGORIAN
METHOD:PUBLISH
X-WR-CALNAME:DIOCESI DI ROMA
X-ORIGINAL-URL:https://www.diocesidiroma.it
X-WR-CALDESC:Eventi per DIOCESI DI ROMA
BEGIN:VEVENT
DTSTART;VALUE=DATE:20171126
DTEND;VALUE=DATE:20171127
DTSTAMP:20260425T132708
CREATED:20171228T115838Z
LAST-MODIFIED:20171228T115838Z
UID:442-1511654400-1511740799@www.diocesidiroma.it
SUMMARY:Giornata di sensibilizzazione per il sostentamento del clero
DESCRIPTION:
URL:https://www.diocesidiroma.it/event/giornata-di-sensibilizzazione-per-il-sostentamento-del-clero/
CATEGORIES:Giornate di sensibilizzazione
END:VEVENT
END:VCALENDAR