BEGIN:VCALENDAR
VERSION:2.0
PRODID:-//DIOCESI DI ROMA - ECPv4.6.14.1//NONSGML v1.0//EN
CALSCALE:GREGORIAN
METHOD:PUBLISH
X-WR-CALNAME:DIOCESI DI ROMA
X-ORIGINAL-URL:https://www.diocesidiroma.it
X-WR-CALDESC:Eventi per DIOCESI DI ROMA
BEGIN:VEVENT
DTSTART;TZID=Europe/Rome:20190323T000000
DTEND;TZID=Europe/Rome:20190323T000000
DTSTAMP:20260421T140347
CREATED:20181011T081407Z
LAST-MODIFIED:20181011T081407Z
UID:5028-1553299200-1553299200@www.diocesidiroma.it
SUMMARY:Giornata di spiritualità e formazione Gruppo Talità Kum
DESCRIPTION:Giornata di spiritualità e formazione Gruppo Talità Kum\, secondo anno. Iniziativa a cura del Centro per la pastorale familiare.  \n
URL:https://www.diocesidiroma.it/event/giornata-di-spiritualita-e-formazione-gruppo-talita-kum-2/
CATEGORIES:Iniziative degli Uffici
END:VEVENT
END:VCALENDAR