BEGIN:VCALENDAR
VERSION:2.0
PRODID:-//DIOCESI DI ROMA - ECPv4.6.14.1//NONSGML v1.0//EN
CALSCALE:GREGORIAN
METHOD:PUBLISH
X-WR-CALNAME:DIOCESI DI ROMA
X-ORIGINAL-URL:https://www.diocesidiroma.it
X-WR-CALDESC:Eventi per DIOCESI DI ROMA
BEGIN:VEVENT
DTSTART;TZID=Europe/Rome:20221204T090000
DTEND;TZID=Europe/Rome:20221204T130000
DTSTAMP:20260422T014923
CREATED:20221128T100000Z
LAST-MODIFIED:20221128T100000Z
UID:24288-1670144400-1670158800@www.diocesidiroma.it
SUMMARY:Giornata di spiritualità in Avvento - Convento dei Padri Passionisti con Santa Messa alle ore 12.15 (Centro Past. Sanitaria)
DESCRIPTION:Giornata di spiritualità in Avvento – Convento dei Padri Passionisti con Santa Messa alle ore 12.15 (Centro Past. Sanitaria) \n
URL:https://www.diocesidiroma.it/event/giornata-di-spiritualita-in-avvento-convento-dei-padri-passionisti-con-santa-messa-alle-ore-12-15-centro-past-sanitaria/
CATEGORIES:Iniziative degli Uffici
END:VEVENT
END:VCALENDAR