BEGIN:VCALENDAR
VERSION:2.0
PRODID:-//DIOCESI DI ROMA - ECPv4.6.14.1//NONSGML v1.0//EN
CALSCALE:GREGORIAN
METHOD:PUBLISH
X-WR-CALNAME:DIOCESI DI ROMA
X-ORIGINAL-URL:https://www.diocesidiroma.it
X-WR-CALDESC:Eventi per DIOCESI DI ROMA
BEGIN:VEVENT
DTSTART;TZID=Europe/Rome:20221203T000000
DTEND;TZID=Europe/Rome:20221203T000000
DTSTAMP:20260421T222613
CREATED:20221128T095445Z
LAST-MODIFIED:20221128T095445Z
UID:24278-1670025600-1670025600@www.diocesidiroma.it
SUMMARY:Giornata di spiritualità missionaria per il clero (Centro Missionario Diocesano)
DESCRIPTION:Giornata di spiritualità missionaria per il clero (Centro Missionario Diocesano) \n
URL:https://www.diocesidiroma.it/event/giornata-di-spiritualita-missionaria-per-il-clero-centro-missionario-diocesano/
CATEGORIES:Iniziative degli Uffici
END:VEVENT
END:VCALENDAR