BEGIN:VCALENDAR
VERSION:2.0
PRODID:-//DIOCESI DI ROMA - ECPv4.6.14.1//NONSGML v1.0//EN
CALSCALE:GREGORIAN
METHOD:PUBLISH
X-WR-CALNAME:DIOCESI DI ROMA
X-ORIGINAL-URL:https://www.diocesidiroma.it
X-WR-CALDESC:Eventi per DIOCESI DI ROMA
BEGIN:VEVENT
DTSTART;TZID=Europe/Rome:20201001T000000
DTEND;TZID=Europe/Rome:20201001T000000
DTSTAMP:20260424T131812
CREATED:20200917T073536Z
LAST-MODIFIED:20200917T073536Z
UID:11639-1601510400-1601510400@www.diocesidiroma.it
SUMMARY:Giornata di spiritualità missionaria per la religiose
DESCRIPTION:Giornata di spiritualità missionaria per la religiose\, a cura del Centro Missionario diocesano. \n
URL:https://www.diocesidiroma.it/event/giornata-di-spiritualita-missionaria-per-la-religiose/
CATEGORIES:Iniziative degli Uffici
END:VEVENT
END:VCALENDAR