BEGIN:VCALENDAR
VERSION:2.0
PRODID:-//DIOCESI DI ROMA - ECPv4.6.14.1//NONSGML v1.0//EN
CALSCALE:GREGORIAN
METHOD:PUBLISH
X-WR-CALNAME:DIOCESI DI ROMA
X-ORIGINAL-URL:https://www.diocesidiroma.it
X-WR-CALDESC:Eventi per DIOCESI DI ROMA
BEGIN:VEVENT
DTSTART;TZID=Europe/Rome:20190317T000000
DTEND;TZID=Europe/Rome:20190317T000000
DTSTAMP:20260420T182140
CREATED:20181011T080153Z
LAST-MODIFIED:20181011T080153Z
UID:5017-1552780800-1552780800@www.diocesidiroma.it
SUMMARY:Giornata di spiritualità per docenti e dottorandi
DESCRIPTION:Giornata di spiritualità per docenti e dottorandi\, a cura del Servizio cultura e università. \n
URL:https://www.diocesidiroma.it/event/giornata-di-spiritualita-per-docenti-e-dottorandi-3/
CATEGORIES:Iniziative degli Uffici
END:VEVENT
END:VCALENDAR