BEGIN:VCALENDAR
VERSION:2.0
PRODID:-//DIOCESI DI ROMA - ECPv4.6.14.1//NONSGML v1.0//EN
CALSCALE:GREGORIAN
METHOD:PUBLISH
X-WR-CALNAME:DIOCESI DI ROMA
X-ORIGINAL-URL:https://www.diocesidiroma.it
X-WR-CALDESC:Eventi per DIOCESI DI ROMA
BEGIN:VEVENT
DTSTART;VALUE=DATE:20180307
DTEND;VALUE=DATE:20180308
DTSTAMP:20260425T025958
CREATED:20171228T133506Z
LAST-MODIFIED:20171228T133506Z
UID:594-1520380800-1520467199@www.diocesidiroma.it
SUMMARY:Giornata di spiritualità per la Quaresima
DESCRIPTION:
URL:https://www.diocesidiroma.it/event/giornata-di-spiritualita-per-la-quaresima/
CATEGORIES:Iniziative degli Uffici
END:VEVENT
END:VCALENDAR