BEGIN:VCALENDAR
VERSION:2.0
PRODID:-//DIOCESI DI ROMA - ECPv4.6.14.1//NONSGML v1.0//EN
CALSCALE:GREGORIAN
METHOD:PUBLISH
X-WR-CALNAME:DIOCESI DI ROMA
X-ORIGINAL-URL:https://www.diocesidiroma.it
X-WR-CALDESC:Eventi per DIOCESI DI ROMA
BEGIN:VEVENT
DTSTART;TZID=Europe/Rome:20251113T120000
DTEND;TZID=Europe/Rome:20251113T120000
DTSTAMP:20260425T105014
CREATED:20251111T150519Z
LAST-MODIFIED:20251111T150519Z
UID:38504-1763035200-1763035200@www.diocesidiroma.it
SUMMARY:Giornata diocesana dell'infermiere al Policlinico Umberto I (Uff. Pastorale Sanitaria)
DESCRIPTION:Giornata diocesana dell’infermiere al Policlinico Umberto I (Uff. Pastorale Sanitaria) \n
URL:https://www.diocesidiroma.it/event/giornata-diocesana-dellinfermiere-al-policlinico-umberto-i-uff-pastorale-sanitaria/
CATEGORIES:In Diocesi,Iniziative degli Uffici
END:VEVENT
END:VCALENDAR