BEGIN:VCALENDAR
VERSION:2.0
PRODID:-//DIOCESI DI ROMA - ECPv4.6.14.1//NONSGML v1.0//EN
CALSCALE:GREGORIAN
METHOD:PUBLISH
X-WR-CALNAME:DIOCESI DI ROMA
X-ORIGINAL-URL:https://www.diocesidiroma.it
X-WR-CALDESC:Eventi per DIOCESI DI ROMA
BEGIN:VEVENT
DTSTART;TZID=Europe/Rome:20181111T000000
DTEND;TZID=Europe/Rome:20181111T000000
DTSTAMP:20260421T120844
CREATED:20180912T152110Z
LAST-MODIFIED:20180912T152110Z
UID:4478-1541894400-1541894400@www.diocesidiroma.it
SUMMARY:Giornata diocesana di Avvenire e Roma Sette
DESCRIPTION:Giornata diocesana di Avvenire e Roma Sette \n
URL:https://www.diocesidiroma.it/event/giornata-diocesana-di-avvenire-e-roma-sette/
CATEGORIES:Giornate di sensibilizzazione
END:VEVENT
END:VCALENDAR