BEGIN:VCALENDAR
VERSION:2.0
PRODID:-//DIOCESI DI ROMA - ECPv4.6.14.1//NONSGML v1.0//EN
CALSCALE:GREGORIAN
METHOD:PUBLISH
X-WR-CALNAME:DIOCESI DI ROMA
X-ORIGINAL-URL:https://www.diocesidiroma.it
X-WR-CALDESC:Eventi per DIOCESI DI ROMA
BEGIN:VEVENT
DTSTART;TZID=Europe/Rome:20191211T000000
DTEND;TZID=Europe/Rome:20191211T000000
DTSTAMP:20260421T035855
CREATED:20191118T103128Z
LAST-MODIFIED:20191118T103128Z
UID:9322-1576022400-1576022400@www.diocesidiroma.it
SUMMARY:Giornata mensile del malato nella parrocchia di Santa Chiara
DESCRIPTION:Giornata mensile del malato nella parrocchia di Santa Chiara\, a cura del Centro per la pastorale sanitaria.  \n
URL:https://www.diocesidiroma.it/event/giornata-mensile-del-malato-nella-parrocchia-di-santa-chiara/
CATEGORIES:Iniziative degli Uffici
END:VEVENT
END:VCALENDAR