BEGIN:VCALENDAR
VERSION:2.0
PRODID:-//DIOCESI DI ROMA - ECPv4.6.14.1//NONSGML v1.0//EN
CALSCALE:GREGORIAN
METHOD:PUBLISH
X-WR-CALNAME:DIOCESI DI ROMA
X-ORIGINAL-URL:https://www.diocesidiroma.it
X-WR-CALDESC:Eventi per DIOCESI DI ROMA
BEGIN:VEVENT
DTSTART;VALUE=DATE:20201018
DTEND;VALUE=DATE:20201019
DTSTAMP:20260422T220646
CREATED:20200917T082728Z
LAST-MODIFIED:20200917T082728Z
UID:11677-1602979200-1603065599@www.diocesidiroma.it
SUMMARY:Giornata missionaria mondiale
DESCRIPTION:Giornata missionaria mondiale \n
URL:https://www.diocesidiroma.it/event/giornata-missionaria-mondiale-2/
CATEGORIES:Giornate di sensibilizzazione
END:VEVENT
END:VCALENDAR