BEGIN:VCALENDAR
VERSION:2.0
PRODID:-//DIOCESI DI ROMA - ECPv4.6.14.1//NONSGML v1.0//EN
CALSCALE:GREGORIAN
METHOD:PUBLISH
X-WR-CALNAME:DIOCESI DI ROMA
X-ORIGINAL-URL:https://www.diocesidiroma.it
X-WR-CALDESC:Eventi per DIOCESI DI ROMA
BEGIN:VEVENT
DTSTART;VALUE=DATE:20250928
DTEND;VALUE=DATE:20250929
DTSTAMP:20260422T084120
CREATED:20250910T103435Z
LAST-MODIFIED:20250910T103435Z
UID:36849-1759017600-1759103999@www.diocesidiroma.it
SUMMARY:Giornata Mondiale del Migrante e del Rifugiato
DESCRIPTION:Giornata Mondiale del Migrante e del Rifugiato \n
URL:https://www.diocesidiroma.it/event/giornata-mondiale-del-migrante-e-del-rifugiato-2/
CATEGORIES:Giornate di sensibilizzazione
END:VEVENT
END:VCALENDAR