BEGIN:VCALENDAR
VERSION:2.0
PRODID:-//DIOCESI DI ROMA - ECPv4.6.14.1//NONSGML v1.0//EN
CALSCALE:GREGORIAN
METHOD:PUBLISH
X-WR-CALNAME:DIOCESI DI ROMA
X-ORIGINAL-URL:https://www.diocesidiroma.it
X-WR-CALDESC:Eventi per DIOCESI DI ROMA
BEGIN:VEVENT
DTSTART;VALUE=DATE:20200927
DTEND;VALUE=DATE:20200928
DTSTAMP:20260421T075316
CREATED:20200917T072330Z
LAST-MODIFIED:20200917T072330Z
UID:11627-1601164800-1601251199@www.diocesidiroma.it
SUMMARY:Giornata mondiale del migrante e del rifugiato
DESCRIPTION:Giornata mondiale del migrante e del rifugiato. Angelus a piazza San Pietro con Papa Francesco \n
URL:https://www.diocesidiroma.it/event/giornata-mondiale-del-migrante-e-del-rifugiato/
CATEGORIES:Giornate di sensibilizzazione
END:VEVENT
END:VCALENDAR