BEGIN:VCALENDAR
VERSION:2.0
PRODID:-//DIOCESI DI ROMA - ECPv4.6.14.1//NONSGML v1.0//EN
CALSCALE:GREGORIAN
METHOD:PUBLISH
X-WR-CALNAME:DIOCESI DI ROMA
X-ORIGINAL-URL:https://www.diocesidiroma.it
X-WR-CALDESC:Eventi per DIOCESI DI ROMA
BEGIN:VEVENT
DTSTART;VALUE=DATE:20200620
DTEND;VALUE=DATE:20200621
DTSTAMP:20260423T040100
CREATED:20200219T091759Z
LAST-MODIFIED:20200219T091759Z
UID:10135-1592611200-1592697599@www.diocesidiroma.it
SUMMARY:Giornata mondiale del rifugiato
DESCRIPTION:Giornata mondiale del rifugiato. \n
URL:https://www.diocesidiroma.it/event/giornata-mondiale-del-rifugiato-3/
CATEGORIES:Giornate di sensibilizzazione
END:VEVENT
END:VCALENDAR