BEGIN:VCALENDAR
VERSION:2.0
PRODID:-//DIOCESI DI ROMA - ECPv4.6.14.1//NONSGML v1.0//EN
CALSCALE:GREGORIAN
METHOD:PUBLISH
X-WR-CALNAME:DIOCESI DI ROMA
X-ORIGINAL-URL:https://www.diocesidiroma.it
X-WR-CALDESC:Eventi per DIOCESI DI ROMA
BEGIN:VEVENT
DTSTART;VALUE=DATE:20251205
DTEND;VALUE=DATE:20251206
DTSTAMP:20260422T055103
CREATED:20250911T061640Z
LAST-MODIFIED:20250911T061640Z
UID:37041-1764892800-1764979199@www.diocesidiroma.it
SUMMARY:Giornata Mondiale del Volontariato
DESCRIPTION:Giornata Mondiale del Volontariato \n
URL:https://www.diocesidiroma.it/event/giornata-mondiale-del-volontariato-2/
CATEGORIES:Giornate di sensibilizzazione
END:VEVENT
END:VCALENDAR