BEGIN:VCALENDAR
VERSION:2.0
PRODID:-//DIOCESI DI ROMA - ECPv4.6.14.1//NONSGML v1.0//EN
CALSCALE:GREGORIAN
METHOD:PUBLISH
X-WR-CALNAME:DIOCESI DI ROMA
X-ORIGINAL-URL:https://www.diocesidiroma.it
X-WR-CALDESC:Eventi per DIOCESI DI ROMA
BEGIN:VEVENT
DTSTART;VALUE=DATE:20260512
DTEND;VALUE=DATE:20260513
DTSTAMP:20260420T221427
CREATED:20251021T104730Z
LAST-MODIFIED:20251021T104730Z
UID:38096-1778544000-1778630399@www.diocesidiroma.it
SUMMARY:Giornata Mondiale della fibromialgia
DESCRIPTION:Giornata Mondiale della fibromialgia \n
URL:https://www.diocesidiroma.it/event/giornata-mondiale-della-fibromialgia/
CATEGORIES:Giornate di sensibilizzazione
END:VEVENT
END:VCALENDAR