BEGIN:VCALENDAR
VERSION:2.0
PRODID:-//DIOCESI DI ROMA - ECPv4.6.14.1//NONSGML v1.0//EN
CALSCALE:GREGORIAN
METHOD:PUBLISH
X-WR-CALNAME:DIOCESI DI ROMA
X-ORIGINAL-URL:https://www.diocesidiroma.it
X-WR-CALDESC:Eventi per DIOCESI DI ROMA
BEGIN:VEVENT
DTSTART;VALUE=DATE:20250529
DTEND;VALUE=DATE:20250530
DTSTAMP:20260423T113051
CREATED:20250509T100444Z
LAST-MODIFIED:20250509T100444Z
UID:35589-1748476800-1748563199@www.diocesidiroma.it
SUMMARY:Giornata Mondiale delle Comunicazioni Sociali
DESCRIPTION:Giornata Mondiale delle Comunicazioni Sociali \n
URL:https://www.diocesidiroma.it/event/giornata-mondiale-delle-comunicazioni-sociali-2/
CATEGORIES:Giornate di sensibilizzazione,In Diocesi
END:VEVENT
END:VCALENDAR