BEGIN:VCALENDAR
VERSION:2.0
PRODID:-//DIOCESI DI ROMA - ECPv4.6.14.1//NONSGML v1.0//EN
CALSCALE:GREGORIAN
METHOD:PUBLISH
X-WR-CALNAME:DIOCESI DI ROMA
X-ORIGINAL-URL:https://www.diocesidiroma.it
X-WR-CALDESC:Eventi per DIOCESI DI ROMA
BEGIN:VEVENT
DTSTART;VALUE=DATE:20251012
DTEND;VALUE=DATE:20251013
DTSTAMP:20260422T112740
CREATED:20250910T105040Z
LAST-MODIFIED:20250910T105040Z
UID:36892-1760227200-1760313599@www.diocesidiroma.it
SUMMARY:Giornata Mondiale delle Malattie Reumatologiche
DESCRIPTION:Giornata Mondiale delle Malattie Reumatologiche \n
URL:https://www.diocesidiroma.it/event/giornata-mondiale-delle-malattie-reumatologiche-2/
CATEGORIES:Giornate di sensibilizzazione
END:VEVENT
END:VCALENDAR