BEGIN:VCALENDAR
VERSION:2.0
PRODID:-//DIOCESI DI ROMA - ECPv4.6.14.1//NONSGML v1.0//EN
CALSCALE:GREGORIAN
METHOD:PUBLISH
X-WR-CALNAME:DIOCESI DI ROMA
X-ORIGINAL-URL:https://www.diocesidiroma.it
X-WR-CALDESC:Eventi per DIOCESI DI ROMA
BEGIN:VEVENT
DTSTART;VALUE=DATE:20251116
DTEND;VALUE=DATE:20251117
DTSTAMP:20260421T010641
CREATED:20250910T120632Z
LAST-MODIFIED:20250910T120632Z
UID:36985-1763251200-1763337599@www.diocesidiroma.it
SUMMARY:Giornata Mondiale delle Vittime della Strada
DESCRIPTION:Giornata Mondiale delle Vittime della Strada \n
URL:https://www.diocesidiroma.it/event/giornata-mondiale-delle-vittime-della-strada-2/
CATEGORIES:In Diocesi
END:VEVENT
END:VCALENDAR