BEGIN:VCALENDAR
VERSION:2.0
PRODID:-//DIOCESI DI ROMA - ECPv4.6.14.1//NONSGML v1.0//EN
CALSCALE:GREGORIAN
METHOD:PUBLISH
X-WR-CALNAME:DIOCESI DI ROMA
X-ORIGINAL-URL:https://www.diocesidiroma.it
X-WR-CALDESC:Eventi per DIOCESI DI ROMA
BEGIN:VEVENT
DTSTART;VALUE=DATE:20250204
DTEND;VALUE=DATE:20250205
DTSTAMP:20260421T163515
CREATED:20241218T130321Z
LAST-MODIFIED:20241218T130321Z
UID:32653-1738627200-1738713599@www.diocesidiroma.it
SUMMARY:Giornata Mondiale per la lotta contro il cancro
DESCRIPTION:Giornata Mondiale per la lotta contro il cancro \n
URL:https://www.diocesidiroma.it/event/giornata-mondiale-per-la-lotta-contro-il-cancro/
CATEGORIES:Giornate di sensibilizzazione
END:VEVENT
END:VCALENDAR