BEGIN:VCALENDAR
VERSION:2.0
PRODID:-//DIOCESI DI ROMA - ECPv4.6.14.1//NONSGML v1.0//EN
CALSCALE:GREGORIAN
METHOD:PUBLISH
X-WR-CALNAME:DIOCESI DI ROMA
X-ORIGINAL-URL:https://www.diocesidiroma.it
X-WR-CALDESC:Eventi per DIOCESI DI ROMA
BEGIN:VEVENT
DTSTART;VALUE=DATE:20180624
DTEND;VALUE=DATE:20180625
DTSTAMP:20260422T055110
CREATED:20171228T143051Z
LAST-MODIFIED:20171228T143051Z
UID:738-1529798400-1529884799@www.diocesidiroma.it
SUMMARY:Giornata per la carità del Papa
DESCRIPTION:
URL:https://www.diocesidiroma.it/event/giornata-per-la-carita-del-papa/
CATEGORIES:Giornate di sensibilizzazione
END:VEVENT
END:VCALENDAR