BEGIN:VCALENDAR
VERSION:2.0
PRODID:-//DIOCESI DI ROMA - ECPv4.6.14.1//NONSGML v1.0//EN
CALSCALE:GREGORIAN
METHOD:PUBLISH
X-WR-CALNAME:DIOCESI DI ROMA
X-ORIGINAL-URL:https://www.diocesidiroma.it
X-WR-CALDESC:Eventi per DIOCESI DI ROMA
BEGIN:VEVENT
DTSTART;VALUE=DATE:20200913
DTEND;VALUE=DATE:20200914
DTSTAMP:20260424T213709
CREATED:20200917T071705Z
LAST-MODIFIED:20200917T071705Z
UID:11613-1599955200-1600041599@www.diocesidiroma.it
SUMMARY:Giornata per la Terra Santa (colletta)
DESCRIPTION:Giornata per la Terra Santa (colletta) \n
URL:https://www.diocesidiroma.it/event/giornata-per-la-terra-santa-colletta/
CATEGORIES:Giornate di sensibilizzazione
END:VEVENT
END:VCALENDAR