BEGIN:VCALENDAR
VERSION:2.0
PRODID:-//DIOCESI DI ROMA - ECPv4.6.14.1//NONSGML v1.0//EN
CALSCALE:GREGORIAN
METHOD:PUBLISH
X-WR-CALNAME:DIOCESI DI ROMA
X-ORIGINAL-URL:https://www.diocesidiroma.it
X-WR-CALDESC:Eventi per DIOCESI DI ROMA
BEGIN:VEVENT
DTSTART;VALUE=DATE:20180330
DTEND;VALUE=DATE:20180331
DTSTAMP:20260424T162950
CREATED:20171228T134550Z
LAST-MODIFIED:20171228T134550Z
UID:633-1522368000-1522454399@www.diocesidiroma.it
SUMMARY:Giornata per le opere della Terra Santa
DESCRIPTION:
URL:https://www.diocesidiroma.it/event/giornata-per-le-opere-della-terra-santa/
CATEGORIES:Giornate di sensibilizzazione
END:VEVENT
END:VCALENDAR