BEGIN:VCALENDAR
VERSION:2.0
PRODID:-//DIOCESI DI ROMA - ECPv4.6.14.1//NONSGML v1.0//EN
CALSCALE:GREGORIAN
METHOD:PUBLISH
X-WR-CALNAME:DIOCESI DI ROMA
X-ORIGINAL-URL:https://www.diocesidiroma.it
X-WR-CALDESC:Eventi per DIOCESI DI ROMA
BEGIN:VEVENT
DTSTART;TZID=Europe/Rome:20201111T000000
DTEND;TZID=Europe/Rome:20201111T000000
DTSTAMP:20260425T121849
CREATED:20200923T154122Z
LAST-MODIFIED:20200923T154122Z
UID:11778-1605052800-1605052800@www.diocesidiroma.it
SUMMARY:Giorno dell'indipendenza della Polonia e 100° anniversario del ritorno alla comunità polacca della chiesa di San Stanislao alle Botteghe Oscure
DESCRIPTION:Giorno dell’indipendenza della Polonia e 100° anniversario del ritorno alla comunità polacca della chiesa di San Stanislao alle Botteghe Oscure\, a cura dell’Ufficio Migrantes. \n
URL:https://www.diocesidiroma.it/event/giorno-dellindipendenza-della-polonia-e-100-anniversario-del-ritorno-alla-comunita-polacca-della-chiesa-di-san-stanislao-alle-botteghe-oscure/
CATEGORIES:Iniziative degli Uffici
END:VEVENT
END:VCALENDAR