BEGIN:VCALENDAR
VERSION:2.0
PRODID:-//DIOCESI DI ROMA - ECPv4.6.14.1//NONSGML v1.0//EN
CALSCALE:GREGORIAN
METHOD:PUBLISH
X-WR-CALNAME:DIOCESI DI ROMA
X-ORIGINAL-URL:https://www.diocesidiroma.it
X-WR-CALDESC:Eventi per DIOCESI DI ROMA
BEGIN:VEVENT
DTSTART;VALUE=DATE:20230406
DTEND;VALUE=DATE:20230407
DTSTAMP:20260424T202032
CREATED:20230330T100022Z
LAST-MODIFIED:20230330T100022Z
UID:25854-1680739200-1680825599@www.diocesidiroma.it
SUMMARY:Giovedì Santo
DESCRIPTION:Giovedì Santo \n
URL:https://www.diocesidiroma.it/event/giovedi-santo-2/
CATEGORIES:In Diocesi,Ricorrenze
END:VEVENT
END:VCALENDAR