BEGIN:VCALENDAR
VERSION:2.0
PRODID:-//DIOCESI DI ROMA - ECPv4.6.14.1//NONSGML v1.0//EN
CALSCALE:GREGORIAN
METHOD:PUBLISH
X-WR-CALNAME:DIOCESI DI ROMA
X-ORIGINAL-URL:https://www.diocesidiroma.it
X-WR-CALDESC:Eventi per DIOCESI DI ROMA
BEGIN:VEVENT
DTSTART;TZID=Europe/Rome:20250429T163000
DTEND;TZID=Europe/Rome:20250429T180000
DTSTAMP:20260422T164519
CREATED:20250319T075234Z
LAST-MODIFIED:20250319T075234Z
UID:34550-1745944200-1745949600@www.diocesidiroma.it
SUMMARY:Giubileo 2025 e Missione ad gentes - Cammini di Speranza nella Missione ad gentes di oggi
DESCRIPTION: \n
URL:https://www.diocesidiroma.it/event/giubileo-2025-e-missione-ad-gentes-cammini-di-speranza-nella-missione-ad-gentes-di-oggi/2025-04-29/
CATEGORIES:Iniziative Giubileo 25
END:VEVENT
END:VCALENDAR